BEGIN:VCALENDAR
VERSION:2.0
PRODID:-//Valley View Casino &amp; Hotel - ECPv6.15.20//NONSGML v1.0//EN
CALSCALE:GREGORIAN
METHOD:PUBLISH
X-WR-CALNAME:Valley View Casino &amp; Hotel
X-ORIGINAL-URL:https://valleyviewcasino.com
X-WR-CALDESC:Events for Valley View Casino &amp; Hotel
REFRESH-INTERVAL;VALUE=DURATION:PT1H
X-Robots-Tag:noindex
X-PUBLISHED-TTL:PT1H
BEGIN:VTIMEZONE
TZID:America/Los_Angeles
BEGIN:DAYLIGHT
TZOFFSETFROM:-0800
TZOFFSETTO:-0700
TZNAME:PDT
DTSTART:20240310T100000
END:DAYLIGHT
BEGIN:STANDARD
TZOFFSETFROM:-0700
TZOFFSETTO:-0800
TZNAME:PST
DTSTART:20241103T090000
END:STANDARD
BEGIN:DAYLIGHT
TZOFFSETFROM:-0800
TZOFFSETTO:-0700
TZNAME:PDT
DTSTART:20250309T100000
END:DAYLIGHT
BEGIN:STANDARD
TZOFFSETFROM:-0700
TZOFFSETTO:-0800
TZNAME:PST
DTSTART:20251102T090000
END:STANDARD
BEGIN:DAYLIGHT
TZOFFSETFROM:-0800
TZOFFSETTO:-0700
TZNAME:PDT
DTSTART:20260308T100000
END:DAYLIGHT
BEGIN:STANDARD
TZOFFSETFROM:-0700
TZOFFSETTO:-0800
TZNAME:PST
DTSTART:20261101T090000
END:STANDARD
END:VTIMEZONE
BEGIN:VEVENT
DTSTART;TZID=America/Los_Angeles:20251215T170000
DTEND;TZID=America/Los_Angeles:20251215T210000
DTSTAMP:20260425T071118
CREATED:20250905T225006Z
LAST-MODIFIED:20250905T225442Z
UID:10001236-1765818000-1765832400@valleyviewcasino.com
SUMMARY:Game Day Snacks & Suds (Monday)
DESCRIPTION:Enjoy $3 chips and candy\, $4 hotdogs\, $5 draft beers and $6 wines during our famous Game Day Snacks & Suds. \nScore big all season long with these epic game day deals on Sundays from 10am–9pm and Mondays from 5pm–9pm.
URL:https://valleyviewcasino.com/promotion/game-day-snacks-suds-monday/2025-12-15/
LOCATION:Main Stage Bar
ATTACH;FMTTYPE=image/jpeg:https://valleyviewcasino.com/wp-content/uploads/2025/09/PromotionsThumbnails_500x34012.jpg
END:VEVENT
BEGIN:VEVENT
DTSTART;TZID=America/Los_Angeles:20251215T100000
DTEND;TZID=America/Los_Angeles:20251215T220000
DTSTAMP:20260425T071118
CREATED:20251202T225655Z
LAST-MODIFIED:20251202T225758Z
UID:10001422-1765792800-1765836000@valleyviewcasino.com
SUMMARY:Gift of the Month
DESCRIPTION:Gift of the Month\nQualified Players Club members are invited to receive their Gift of the Month on select Mondays and Tuesdays. Each month\, we award a different exclusive gift as just one more way to thank you for your loyalty. Visit our Players Club to learn how you can qualify to receive your Gift of the Month.
URL:https://valleyviewcasino.com/promotion/gift-of-the-month-2-2-2-2-2-2/2025-12-15/
LOCATION:Hotel Event Center
ATTACH;FMTTYPE=image/webp:https://valleyviewcasino.com/wp-content/uploads/2025/04/promo_tile_gom.jpg.webp
END:VEVENT
BEGIN:VEVENT
DTSTART;TZID=America/Los_Angeles:20251214T100000
DTEND;TZID=America/Los_Angeles:20251214T210000
DTSTAMP:20260425T071118
CREATED:20250905T224934Z
LAST-MODIFIED:20250905T231735Z
UID:10001218-1765706400-1765746000@valleyviewcasino.com
SUMMARY:Game Day Snacks & Suds (Sunday)
DESCRIPTION:Enjoy $3 chips and candy\, $4 hotdogs\, $5 draft beers and $6 wines during our famous Game Day Snacks & Suds. \nScore big all season long with these epic game day deals on Sundays from 10am–9pm and Mondays from 5pm–9pm.
URL:https://valleyviewcasino.com/promotion/game-day-snacks-suds-sunday/2025-12-14/
LOCATION:Main Stage Bar
ATTACH;FMTTYPE=image/jpeg:https://valleyviewcasino.com/wp-content/uploads/2025/09/PromotionsThumbnails_500x34012.jpg
END:VEVENT
BEGIN:VEVENT
DTSTART;TZID=America/Los_Angeles:20251212T170000
DTEND;TZID=America/Los_Angeles:20251212T220000
DTSTAMP:20260425T071118
CREATED:20250410T183921Z
LAST-MODIFIED:20251118T003620Z
UID:10000002-1765558800-1765576800@valleyviewcasino.com
SUMMARY:Dave's $250\,000 Weekend Windfall
DESCRIPTION:YOUR CHANCE TO WIN $25\,000 AT DAVE’S $250\,000 WEEKEND WINDFALL\nPlease join us to win $25\,000 during Dave’s $250\,000 Weekend Windfall where every hour from 5pm–9pm\, 10 guests will be chosen to spin to win MOREPLAY®.
URL:https://valleyviewcasino.com/promotion/daves-weekend-windfall/
LOCATION:Main Stage Bar
ATTACH;FMTTYPE=image/webp:https://valleyviewcasino.com/wp-content/uploads/2025/04/promo-tile-windfall.jpg.webp
END:VEVENT
BEGIN:VEVENT
DTSTART;TZID=America/Los_Angeles:20251211T170000
DTEND;TZID=America/Los_Angeles:20251211T210000
DTSTAMP:20260425T071118
CREATED:20250410T203429Z
LAST-MODIFIED:20260423T180857Z
UID:10000360-1765472400-1765486800@valleyviewcasino.com
SUMMARY:$500\,000 Pick Three Thursdays
DESCRIPTION:$500\,000 Pick Three Thursdays\nJoin us for our $500\,000 Pick Three Thursdays promotion where you could win a huge grand prize. Every hour from 5:00pm – 8:00pm\, five guests will win MOREPLAY®\, and then at 9:00pm\, three guests will each select three envelopes for a chance at $500\,000. So join us at the Main Stage Bar every Thursday from 5:00pm – 9:00pm to win big! \n\n\n\n\n\n\n\n\n\n 
URL:https://valleyviewcasino.com/promotion/pick-three-thursdays/2025-12-11/
LOCATION:Main Stage Bar
ATTACH;FMTTYPE=image/webp:https://valleyviewcasino.com/wp-content/uploads/2025/04/promo-tile-3thursdays.jpg.webp
END:VEVENT
END:VCALENDAR